BEGIN:VCALENDAR
VERSION:2.0
PRODID:-//Adelaide Inn - ECPv6.15.20//NONSGML v1.0//EN
CALSCALE:GREGORIAN
METHOD:PUBLISH
X-WR-CALNAME:Adelaide Inn
X-ORIGINAL-URL:https://adelaideinn.com
X-WR-CALDESC:Events for Adelaide Inn
REFRESH-INTERVAL;VALUE=DURATION:PT1H
X-Robots-Tag:noindex
X-PUBLISHED-TTL:PT1H
BEGIN:VTIMEZONE
TZID:America/Los_Angeles
BEGIN:DAYLIGHT
TZOFFSETFROM:-0800
TZOFFSETTO:-0700
TZNAME:PDT
DTSTART:20250309T100000
END:DAYLIGHT
BEGIN:STANDARD
TZOFFSETFROM:-0700
TZOFFSETTO:-0800
TZNAME:PST
DTSTART:20251102T090000
END:STANDARD
BEGIN:DAYLIGHT
TZOFFSETFROM:-0800
TZOFFSETTO:-0700
TZNAME:PDT
DTSTART:20260308T100000
END:DAYLIGHT
BEGIN:STANDARD
TZOFFSETFROM:-0700
TZOFFSETTO:-0800
TZNAME:PST
DTSTART:20261101T090000
END:STANDARD
BEGIN:DAYLIGHT
TZOFFSETFROM:-0800
TZOFFSETTO:-0700
TZNAME:PDT
DTSTART:20270314T100000
END:DAYLIGHT
BEGIN:STANDARD
TZOFFSETFROM:-0700
TZOFFSETTO:-0800
TZNAME:PST
DTSTART:20271107T090000
END:STANDARD
END:VTIMEZONE
BEGIN:VEVENT
DTSTART;TZID=America/Los_Angeles:20260509T090000
DTEND;TZID=America/Los_Angeles:20260509T160000
DTSTAMP:20260422T045937
CREATED:20260130T222247Z
LAST-MODIFIED:20260130T222247Z
UID:10000253-1778317200-1778342400@adelaideinn.com
SUMMARY:Paso Robles Olive and Lavender Festival
DESCRIPTION:
URL:https://adelaideinn.com/event/paso-robles-olive-and-lavender-festival-3
LOCATION:Paso Robles Downtown City Park\, 1100 Spring Street\, Paso Robles\, CA\, 93446\, United States
CATEGORIES:Arts & Crafts,Community,Family Entertainment,Festival,Food,Shopping
END:VEVENT
BEGIN:VEVENT
DTSTART;VALUE=DATE:20260516
DTEND;VALUE=DATE:20260519
DTSTAMP:20260422T045937
CREATED:20260311T213859Z
LAST-MODIFIED:20260311T213859Z
UID:10000266-1778896800-1779069599@adelaideinn.com
SUMMARY:Spring Fling Schooling Show at the Paso Robles Horse Park
DESCRIPTION:
URL:https://adelaideinn.com/event/spring-fling-schooling-show-at-the-paso-robles-horse-park
LOCATION:Paso Robles Horse Park\, 3801 Hughes Parkway\, Paso Robles\, CA\, 93446\, United States
CATEGORIES:Competition,Equestrian,Family Entertainment
END:VEVENT
BEGIN:VEVENT
DTSTART;VALUE=DATE:20260521
DTEND;VALUE=DATE:20260526
DTSTAMP:20260422T045937
CREATED:20260311T214640Z
LAST-MODIFIED:20260324T205331Z
UID:10000267-1779328800-1779674399@adelaideinn.com
SUMMARY:Rosé in May at the Paso Robles Horse Park
DESCRIPTION:
URL:https://adelaideinn.com/event/rose-in-may-at-the-paso-robles-horse-park
LOCATION:Paso Robles Horse Park\, 3801 Hughes Parkway\, Paso Robles\, CA\, 93446\, United States
CATEGORIES:Competition,Equestrian,Family Entertainment
END:VEVENT
END:VCALENDAR