BEGIN:VCALENDAR
VERSION:2.0
PRODID:-//Adelaide Inn - ECPv6.15.20//NONSGML v1.0//EN
CALSCALE:GREGORIAN
METHOD:PUBLISH
X-WR-CALNAME:Adelaide Inn
X-ORIGINAL-URL:https://adelaideinn.com
X-WR-CALDESC:Events for Adelaide Inn
REFRESH-INTERVAL;VALUE=DURATION:PT1H
X-Robots-Tag:noindex
X-PUBLISHED-TTL:PT1H
BEGIN:VTIMEZONE
TZID:America/Los_Angeles
BEGIN:DAYLIGHT
TZOFFSETFROM:-0800
TZOFFSETTO:-0700
TZNAME:PDT
DTSTART:20250309T100000
END:DAYLIGHT
BEGIN:STANDARD
TZOFFSETFROM:-0700
TZOFFSETTO:-0800
TZNAME:PST
DTSTART:20251102T090000
END:STANDARD
BEGIN:DAYLIGHT
TZOFFSETFROM:-0800
TZOFFSETTO:-0700
TZNAME:PDT
DTSTART:20260308T100000
END:DAYLIGHT
BEGIN:STANDARD
TZOFFSETFROM:-0700
TZOFFSETTO:-0800
TZNAME:PST
DTSTART:20261101T090000
END:STANDARD
BEGIN:DAYLIGHT
TZOFFSETFROM:-0800
TZOFFSETTO:-0700
TZNAME:PDT
DTSTART:20270314T100000
END:DAYLIGHT
BEGIN:STANDARD
TZOFFSETFROM:-0700
TZOFFSETTO:-0800
TZNAME:PST
DTSTART:20271107T090000
END:STANDARD
END:VTIMEZONE
BEGIN:VEVENT
DTSTART;TZID=America/Los_Angeles:20260424T163000
DTEND;TZID=America/Los_Angeles:20260424T183000
DTSTAMP:20260420T080631
CREATED:20260323T224157Z
LAST-MODIFIED:20260323T224157Z
UID:10000280-1777048200-1777055400@adelaideinn.com
SUMMARY:For Our Guests: Pourings by the Pool Featuring Mustard Creek Winery
DESCRIPTION:
URL:https://adelaideinn.com/event/for-our-guests-pourings-by-the-pool-featuring-mustard-creek-winery
LOCATION:Adelaide Inn\, 1215 Ysabel St.\, Paso Robles\, CA\, 93446\, United States
CATEGORIES:Wine Tasting
ORGANIZER;CN="Adelaide Inn":MAILTO:res@adelaideinn.com
END:VEVENT
BEGIN:VEVENT
DTSTART;TZID=America/Los_Angeles:20260508T163000
DTEND;TZID=America/Los_Angeles:20260508T183000
DTSTAMP:20260420T080631
CREATED:20260323T224506Z
LAST-MODIFIED:20260323T224506Z
UID:10000281-1778257800-1778265000@adelaideinn.com
SUMMARY:For Our Guests: Pourings by the Pool Featuring Four Sisters Ranch Vineyards & Winery
DESCRIPTION:
URL:https://adelaideinn.com/event/for-our-guests-pourings-by-the-pool-featuring-four-sisters-ranch-vineyards-winery
LOCATION:Adelaide Inn\, 1215 Ysabel St.\, Paso Robles\, CA\, 93446\, United States
CATEGORIES:Wine Tasting
ORGANIZER;CN="Adelaide Inn":MAILTO:res@adelaideinn.com
END:VEVENT
BEGIN:VEVENT
DTSTART;TZID=America/Los_Angeles:20260522T163000
DTEND;TZID=America/Los_Angeles:20260522T183000
DTSTAMP:20260420T080631
CREATED:20260323T224700Z
LAST-MODIFIED:20260323T224700Z
UID:10000282-1779467400-1779474600@adelaideinn.com
SUMMARY:For Our Guests: Pourings by the Pool Featuring Eberle Winery
DESCRIPTION:
URL:https://adelaideinn.com/event/for-our-guests-pourings-by-the-pool-featuring-eberle-winery
LOCATION:Adelaide Inn\, 1215 Ysabel St.\, Paso Robles\, CA\, 93446\, United States
CATEGORIES:Wine Tasting
ORGANIZER;CN="Adelaide Inn":MAILTO:res@adelaideinn.com
END:VEVENT
BEGIN:VEVENT
DTSTART;TZID=America/Los_Angeles:20260605T163000
DTEND;TZID=America/Los_Angeles:20260605T183000
DTSTAMP:20260420T080631
CREATED:20260323T224845Z
LAST-MODIFIED:20260323T224845Z
UID:10000283-1780677000-1780684200@adelaideinn.com
SUMMARY:For Our Guests: Pourings by the Pool Featuring Vina Robles Winery
DESCRIPTION:
URL:https://adelaideinn.com/event/for-our-guests-pourings-by-the-pool-featuring-vina-robles-winery-2
LOCATION:Adelaide Inn\, 1215 Ysabel St.\, Paso Robles\, CA\, 93446\, United States
CATEGORIES:Wine Tasting
ORGANIZER;CN="Adelaide Inn":MAILTO:res@adelaideinn.com
END:VEVENT
BEGIN:VEVENT
DTSTART;TZID=America/Los_Angeles:20260612T163000
DTEND;TZID=America/Los_Angeles:20260612T183000
DTSTAMP:20260420T080631
CREATED:20260323T225454Z
LAST-MODIFIED:20260323T225454Z
UID:10000284-1781281800-1781289000@adelaideinn.com
SUMMARY:For Our Guests: Pourings by the Pool Featuring Villa San Juliette Winery
DESCRIPTION:
URL:https://adelaideinn.com/event/for-our-guests-pourings-by-the-pool-featuring-villa-san-juliette-winery
LOCATION:Adelaide Inn\, 1215 Ysabel St.\, Paso Robles\, CA\, 93446\, United States
CATEGORIES:Wine Tasting
ORGANIZER;CN="Adelaide Inn":MAILTO:res@adelaideinn.com
END:VEVENT
BEGIN:VEVENT
DTSTART;TZID=America/Los_Angeles:20260619T080000
DTEND;TZID=America/Los_Angeles:20260619T170000
DTSTAMP:20260420T080631
CREATED:20260323T225623Z
LAST-MODIFIED:20260323T230143Z
UID:10000285-1781856000-1781888400@adelaideinn.com
SUMMARY:For Our Guests: Pourings by the Pool Featuring Eberle Winery
DESCRIPTION:
URL:https://adelaideinn.com/event/for-our-guests-pourings-by-the-pool-featuring-eberle-winery-2
LOCATION:Adelaide Inn\, 1215 Ysabel St.\, Paso Robles\, CA\, 93446\, United States
CATEGORIES:Wine Tasting
ORGANIZER;CN="Adelaide Inn":MAILTO:res@adelaideinn.com
END:VEVENT
BEGIN:VEVENT
DTSTART;TZID=America/Los_Angeles:20260626T163000
DTEND;TZID=America/Los_Angeles:20260626T183000
DTSTAMP:20260420T080631
CREATED:20260323T225924Z
LAST-MODIFIED:20260323T225924Z
UID:10000286-1782491400-1782498600@adelaideinn.com
SUMMARY:For Our Guests: Pourings by the Pool Featuring Le Vigne Winery
DESCRIPTION:
URL:https://adelaideinn.com/event/for-our-guests-pourings-by-the-pool-featuring-le-vigne-winery-3
LOCATION:Adelaide Inn\, 1215 Ysabel St.\, Paso Robles\, CA\, 93446\, United States
CATEGORIES:Wine Tasting
ORGANIZER;CN="Adelaide Inn":MAILTO:res@adelaideinn.com
END:VEVENT
BEGIN:VEVENT
DTSTART;TZID=America/Los_Angeles:20260703T163000
DTEND;TZID=America/Los_Angeles:20260703T183000
DTSTAMP:20260420T080631
CREATED:20260323T230502Z
LAST-MODIFIED:20260323T230502Z
UID:10000287-1783096200-1783103400@adelaideinn.com
SUMMARY:For Our Guests: Pourings by the Pool Featuring Four Sisters Ranch Vineyards & Winery
DESCRIPTION:
URL:https://adelaideinn.com/event/for-our-guests-pourings-by-the-pool-featuring-four-sisters-ranch-vineyards-winery-2
LOCATION:Adelaide Inn\, 1215 Ysabel St.\, Paso Robles\, CA\, 93446\, United States
CATEGORIES:Wine Tasting
ORGANIZER;CN="Adelaide Inn":MAILTO:res@adelaideinn.com
END:VEVENT
BEGIN:VEVENT
DTSTART;TZID=America/Los_Angeles:20260710T163000
DTEND;TZID=America/Los_Angeles:20260710T183000
DTSTAMP:20260420T080631
CREATED:20260323T230732Z
LAST-MODIFIED:20260323T230732Z
UID:10000288-1783701000-1783708200@adelaideinn.com
SUMMARY:For Our Guests: Pourings by the Pool Featuring Eberle Winery
DESCRIPTION:
URL:https://adelaideinn.com/event/for-our-guests-pourings-by-the-pool-featuring-eberle-winery-3
LOCATION:Adelaide Inn\, 1215 Ysabel St.\, Paso Robles\, CA\, 93446\, United States
CATEGORIES:Wine Tasting
ORGANIZER;CN="Adelaide Inn":MAILTO:res@adelaideinn.com
END:VEVENT
BEGIN:VEVENT
DTSTART;TZID=America/Los_Angeles:20260814T080000
DTEND;TZID=America/Los_Angeles:20260814T170000
DTSTAMP:20260420T080631
CREATED:20260323T230924Z
LAST-MODIFIED:20260323T230924Z
UID:10000289-1786694400-1786726800@adelaideinn.com
SUMMARY:For Our Guests: Pourings by the Pool Featuring Vina Robles Winery
DESCRIPTION:
URL:https://adelaideinn.com/event/for-our-guests-pourings-by-the-pool-featuring-vina-robles-winery-3
LOCATION:Adelaide Inn\, 1215 Ysabel St.\, Paso Robles\, CA\, 93446\, United States
CATEGORIES:Wine Tasting
ORGANIZER;CN="Adelaide Inn":MAILTO:res@adelaideinn.com
END:VEVENT
END:VCALENDAR